BEGIN:VCALENDAR
VERSION:2.0
PRODID:-//Twin Towers Homeowners Association - ECPv6.15.20//NONSGML v1.0//EN
CALSCALE:GREGORIAN
METHOD:PUBLISH
X-WR-CALNAME:Twin Towers Homeowners Association
X-ORIGINAL-URL:https://twintowershoa.com
X-WR-CALDESC:Events for Twin Towers Homeowners Association
REFRESH-INTERVAL;VALUE=DURATION:PT1H
X-Robots-Tag:noindex
X-PUBLISHED-TTL:PT1H
BEGIN:VTIMEZONE
TZID:America/New_York
BEGIN:DAYLIGHT
TZOFFSETFROM:-0500
TZOFFSETTO:-0400
TZNAME:EDT
DTSTART:20240310T070000
END:DAYLIGHT
BEGIN:STANDARD
TZOFFSETFROM:-0400
TZOFFSETTO:-0500
TZNAME:EST
DTSTART:20241103T060000
END:STANDARD
BEGIN:DAYLIGHT
TZOFFSETFROM:-0500
TZOFFSETTO:-0400
TZNAME:EDT
DTSTART:20250309T070000
END:DAYLIGHT
BEGIN:STANDARD
TZOFFSETFROM:-0400
TZOFFSETTO:-0500
TZNAME:EST
DTSTART:20251102T060000
END:STANDARD
BEGIN:DAYLIGHT
TZOFFSETFROM:-0500
TZOFFSETTO:-0400
TZNAME:EDT
DTSTART:20260308T070000
END:DAYLIGHT
BEGIN:STANDARD
TZOFFSETFROM:-0400
TZOFFSETTO:-0500
TZNAME:EST
DTSTART:20261101T060000
END:STANDARD
END:VTIMEZONE
BEGIN:VEVENT
DTSTART;TZID=America/New_York:20250306T163000
DTEND;TZID=America/New_York:20250306T173000
DTSTAMP:20260421T180435
CREATED:20250424T210038Z
LAST-MODIFIED:20250424T210038Z
UID:10000536-1741278600-1741282200@twintowershoa.com
SUMMARY:Board of Directors Meeting 3/6/25
DESCRIPTION:Twin Towers Homeowners Association\, Inc.\nBOARD OF DIRECTORS MEETING\nAtlantic Room\n2020 N. Atlantic Ave\nCocoa Beach\, FL 32931\nMarch 6\, 2025\n4:30 PM\nATTEND BY ZOOM:\nMeeting ID: 862 9235 2049\nZoom Link: https://us06web.zoom.us/j/86292352049 \nAGENDA \n\nCall Meeting to order\nPledge Of Allegiance\nCertify the posting of the meeting\nApprove the minutes for: 19 December 2024\nOld Business\nNew Business\n\n\n\n\nAppointing new Board Members\nOfficers Reports:\n\n\n\n\n\n\n\n\nPresident\nVice President\nTreasurer\n\n\n\n\n\n\n\n\nApproval of Banking\nAppointment of Committees\nRecognizing clubs\nChange off time for employees. All time is to be PTO – (Paid Time Off) and USE or LOSE – NOT PAID OUT or carried forward.\n\n\n\n\nManager’s Report\nOwners’ comments\nAdjournment
URL:https://twintowershoa.com/event/board-of-directors-meeting-3-6-25/
LOCATION:Atlantic Room\, 2020 N. Atlantic Ave.\, Cocoa Beach\, FL\, 32931\, United States
CATEGORIES:Meeting
ATTACH;FMTTYPE=image/jpeg:https://twintowershoa.com/wp-content/uploads/2024/11/board-meeting.jpg
END:VEVENT
BEGIN:VEVENT
DTSTART;TZID=America/New_York:20250313T100000
DTEND;TZID=America/New_York:20250313T110000
DTSTAMP:20260421T180435
CREATED:20250424T210038Z
LAST-MODIFIED:20250424T210038Z
UID:10000538-1741860000-1741863600@twintowershoa.com
SUMMARY:Board of Directors Workshop 3/13/25
DESCRIPTION:Twin Towers Homeowners Association\, Inc.\nBoard of Directors Workshop\nAtlantic Room\n2020 N. Atlantic Ave\nCocoa Beach\, FL 32931\nMarch 13\, 2025\n10:00 AM\nAttendance is open to all owners
URL:https://twintowershoa.com/event/board-of-directors-workshop-3-13-25/
LOCATION:Atlantic Room\, 2020 N. Atlantic Ave.\, Cocoa Beach\, FL\, 32931\, United States
CATEGORIES:Meeting
ATTACH;FMTTYPE=image/jpeg:https://twintowershoa.com/wp-content/uploads/2024/11/board-meeting.jpg
END:VEVENT
BEGIN:VEVENT
DTSTART;TZID=America/New_York:20250314T123000
DTEND;TZID=America/New_York:20250314T133000
DTSTAMP:20260421T180435
CREATED:20250424T210038Z
LAST-MODIFIED:20250424T210038Z
UID:10000539-1741955400-1741959000@twintowershoa.com
SUMMARY:Beautification Committee Meeting 3/14/25
DESCRIPTION:Twin Towers Homeowners Association\, Inc.\nBeautification Committee Meeting\nWHERE: Atlantic Room\n2020 N. Atlantic Ave\nCocoa Beach\, FL 32931\nWHEN: Friday\, March 14\, 2025\nTIME: 12:30 PM\n  \nAGENDA \n\nDiscuss and confirm hallway paint color.\nReview and Discuss hallway rug/carpet selections\nConcrete table at pool remediation\nLaundry room painting
URL:https://twintowershoa.com/event/beautification-committee-meeting-3-14-25/
LOCATION:Atlantic Room\, 2020 N. Atlantic Ave.\, Cocoa Beach\, FL\, 32931\, United States
CATEGORIES:Meeting
ATTACH;FMTTYPE=image/jpeg:https://twintowershoa.com/wp-content/uploads/2024/11/flowers.jpg
END:VEVENT
BEGIN:VEVENT
DTSTART;TZID=America/New_York:20250325T200000
DTEND;TZID=America/New_York:20250325T210000
DTSTAMP:20260421T180435
CREATED:20250424T210038Z
LAST-MODIFIED:20250625T143532Z
UID:10000537-1742932800-1742936400@twintowershoa.com
SUMMARY:2nd Attempt- Annual Meeting of the Twin Towers Homeowners Association 3/25/25- No Quorum
DESCRIPTION:Twin Towers Homeowner’s Association\, Inc.\nNotice of Annual Meeting\nNotice is hereby given that the Annual Meeting of the Membership of the Twin Towers Homeowners\, Inc. will be held on Tuesday\, March 25\, 2025\, at 8pm. In the Atlantic Room at Twin Towers Condominium\, 2020 N Atlantic Avenue\, Cocoa Beach\, Florida 32931.\nANNUAL MEMBERS’ MEETING\n                               Time: 8 p.m.                                    \nATTEND BY ZOOM: Meeting ID: 862 9235 2049\nZoom Link: https://us06web.zoom.us/j/86292352049\nAgenda \n\n Certified posting of the meeting\n Determination of Quorum\n Pledge of Allegiance\n Proof of notice of meeting\n Introduction of Board Members\n\nPresident:\nVice President:\nSecretary:\nTreasurer:\n\n\nRead and approve annual meeting minutes held on: 16 February 2024\nReports of Officers\nReports of Committees:\n\nBudget/Finance\nMaintenance\nHearing\nBeautification\nArchitectural\nStorage/Bike\n\n\nOwners’ Comments\nAdjournment\n\nTO ENSURE A QUORUM FOR THE ANNUAL MEETING – Proxy Instructions\nIf you cannot attend the meeting in person\, we will need your proxy to obtain a quorum. Sign and date your proxy. If you wish to designate a person to act as your proxy\, fill in his/her name. If you do not designate your proxy\, it will automatically be assigned to the President of the Association. You may have someone bring it to the meeting. dropping it off at the office or emailing it to Twintowersmanager@gmail.com\,  mail to: \nTwin Towers HOA\, Inc.\n2020 N. Atlantic Ave.\nCocoa Beach\, FL 32931 \nDocuments:\n2nd Annual Meeting Letter of Information\nNotice of 2nd Annual Meeting 3/25/2025\n 
URL:https://twintowershoa.com/event/2nd-attempt-annual-meeting-of-the-twin-towers-homeowners-association-3-25-25/
LOCATION:Atlantic Room\, 2020 N. Atlantic Ave.\, Cocoa Beach\, FL\, 32931\, United States
CATEGORIES:Meeting
ATTACH;FMTTYPE=image/jpeg:https://twintowershoa.com/wp-content/uploads/2024/11/board-meeting.jpg
END:VEVENT
BEGIN:VEVENT
DTSTART;TZID=America/New_York:20250331T093000
DTEND;TZID=America/New_York:20250331T103000
DTSTAMP:20260421T180435
CREATED:20250424T210038Z
LAST-MODIFIED:20250424T210038Z
UID:10000540-1743413400-1743417000@twintowershoa.com
SUMMARY:Finance Committee Workshop 3/31/25
DESCRIPTION:Twin Towers Homeowners Association\, Inc.\nPurpose:  Finance Committee Workshop\nAtlantic Room\n2020 N. Atlantic Ave\nCocoa Beach\, FL 32931\nMarch 31\, 2025\n9:30 AM\nAttendance is open to all owners
URL:https://twintowershoa.com/event/finance-committee-workshop-3-31-25/
LOCATION:Atlantic Room\, 2020 N. Atlantic Ave.\, Cocoa Beach\, FL\, 32931\, United States
CATEGORIES:Meeting
ATTACH;FMTTYPE=image/jpeg:https://twintowershoa.com/wp-content/uploads/2024/11/board-meeting.jpg
END:VEVENT
END:VCALENDAR