BEGIN:VCALENDAR
VERSION:2.0
PRODID:-//Twin Towers Homeowners Association - ECPv6.15.20//NONSGML v1.0//EN
CALSCALE:GREGORIAN
METHOD:PUBLISH
X-ORIGINAL-URL:https://twintowershoa.com
X-WR-CALDESC:Events for Twin Towers Homeowners Association
REFRESH-INTERVAL;VALUE=DURATION:PT1H
X-Robots-Tag:noindex
X-PUBLISHED-TTL:PT1H
BEGIN:VTIMEZONE
TZID:America/New_York
BEGIN:DAYLIGHT
TZOFFSETFROM:-0500
TZOFFSETTO:-0400
TZNAME:EDT
DTSTART:20240310T070000
END:DAYLIGHT
BEGIN:STANDARD
TZOFFSETFROM:-0400
TZOFFSETTO:-0500
TZNAME:EST
DTSTART:20241103T060000
END:STANDARD
BEGIN:DAYLIGHT
TZOFFSETFROM:-0500
TZOFFSETTO:-0400
TZNAME:EDT
DTSTART:20250309T070000
END:DAYLIGHT
BEGIN:STANDARD
TZOFFSETFROM:-0400
TZOFFSETTO:-0500
TZNAME:EST
DTSTART:20251102T060000
END:STANDARD
BEGIN:DAYLIGHT
TZOFFSETFROM:-0500
TZOFFSETTO:-0400
TZNAME:EDT
DTSTART:20260308T070000
END:DAYLIGHT
BEGIN:STANDARD
TZOFFSETFROM:-0400
TZOFFSETTO:-0500
TZNAME:EST
DTSTART:20261101T060000
END:STANDARD
END:VTIMEZONE
BEGIN:VEVENT
DTSTART;TZID=America/New_York:20251118T140000
DTEND;TZID=America/New_York:20251118T153000
DTSTAMP:20260419T075756
CREATED:20251114T213103Z
LAST-MODIFIED:20251218T165201Z
UID:10000565-1763474400-1763479800@twintowershoa.com
SUMMARY:Finance Committee Meeting 11/18/25
DESCRIPTION:Date: November 14\, 2025\nPosted by: Tammy Martinez \nTwin Towers Homeowners Association\, Inc.\nPurpose: Finance Committee Meeting\nWhere: Atlantic Room/Zoom\nCocoa Beach\, Fl 32931\nWhen: November 18\, 2025\nTime: 2pm – 3:30pm\nATTENDANCE IS OPEN TO ALL OWNERS\nATTEND BY ZOOM:\nMeeting ID: 862 9235 2049\nZoom Link: https://us06web.zoom.us/j/86292352049 \nAGENDA\n\nCall Meeting to order\nCertify Posting of meeting\nNew Business\n\n1.) Financial Statements\n 2.) Budget 2026\n\n\n\n\nOwner’s Comments\nAdjournment
URL:https://twintowershoa.com/event/finance-committee-meeting-11-18-25/
LOCATION:Atlantic Room\, 2020 N. Atlantic Ave.\, Cocoa Beach\, FL\, 32931\, United States
CATEGORIES:Meeting
ATTACH;FMTTYPE=image/jpeg:https://twintowershoa.com/wp-content/uploads/2025/12/BoardMeeting4B.jpg
END:VEVENT
END:VCALENDAR