BEGIN:VCALENDAR
VERSION:2.0
PRODID:-//Twin Towers Homeowners Association - ECPv6.15.20//NONSGML v1.0//EN
CALSCALE:GREGORIAN
METHOD:PUBLISH
X-WR-CALNAME:Twin Towers Homeowners Association
X-ORIGINAL-URL:https://twintowershoa.com
X-WR-CALDESC:Events for Twin Towers Homeowners Association
REFRESH-INTERVAL;VALUE=DURATION:PT1H
X-Robots-Tag:noindex
X-PUBLISHED-TTL:PT1H
BEGIN:VTIMEZONE
TZID:America/New_York
BEGIN:DAYLIGHT
TZOFFSETFROM:-0500
TZOFFSETTO:-0400
TZNAME:EDT
DTSTART:20250309T070000
END:DAYLIGHT
BEGIN:STANDARD
TZOFFSETFROM:-0400
TZOFFSETTO:-0500
TZNAME:EST
DTSTART:20251102T060000
END:STANDARD
BEGIN:DAYLIGHT
TZOFFSETFROM:-0500
TZOFFSETTO:-0400
TZNAME:EDT
DTSTART:20260308T070000
END:DAYLIGHT
BEGIN:STANDARD
TZOFFSETFROM:-0400
TZOFFSETTO:-0500
TZNAME:EST
DTSTART:20261101T060000
END:STANDARD
BEGIN:DAYLIGHT
TZOFFSETFROM:-0500
TZOFFSETTO:-0400
TZNAME:EDT
DTSTART:20270314T070000
END:DAYLIGHT
BEGIN:STANDARD
TZOFFSETFROM:-0400
TZOFFSETTO:-0500
TZNAME:EST
DTSTART:20271107T060000
END:STANDARD
END:VTIMEZONE
BEGIN:VEVENT
DTSTART;TZID=America/New_York:20260326T180000
DTEND;TZID=America/New_York:20260326T190000
DTSTAMP:20260421T180016
CREATED:20260324T183307Z
LAST-MODIFIED:20260324T183307Z
UID:10000573-1774548000-1774551600@twintowershoa.com
SUMMARY:Board Of Directors’ Meeting 3/26/26
DESCRIPTION:Twin Towers Homeowners Association\, Inc.\nBoard Of Directors’ Meeting\nWhere: Atlantic Room\n2020 N. Atlantic Ave.\nCocoa Beach\, FL 32931\nWhen: Thursday\, 26 March 2026\nTime: 6pm\nAttend By Zoom:\nMeeting ID: 862 9235 2049\nZoom Link: https://us06web.zoom.us/j/86292352049\nAGENDA\n\nCall Meeting to order\nEstablish a quorum\nPledge of Allegiance\nCertify the posting of the meeting\nApprove the minutes from the BOD Meeting on 5 February 2026.\nOpening Comments from the Board\nMember Discussion on Ongoing Board Business\nVote on Straight Line Reserves to Pooled Reserves\nCommittee Structure and Appointments\n\n  Build a corner area for the relator lock boxes\n  Credit Card payments in office only with a 4% fee for monthly HOA fees\nCommittee Reports:\n\nGarden Club Committee\nBike Room Committee\nHobby/Cubby Committee\nMen’s Club\nWomen’s Club\nBeautification Committee\n\n\n\n\nAdjournment
URL:https://twintowershoa.com/event/board-of-directors-meeting-3-26-26/
LOCATION:Atlantic Room\, 2020 N. Atlantic Ave.\, Cocoa Beach\, FL\, 32931\, United States
CATEGORIES:Meeting
ATTACH;FMTTYPE=image/jpeg:https://twintowershoa.com/wp-content/uploads/2025/12/BoardMeeting4B.jpg
END:VEVENT
BEGIN:VEVENT
DTSTART;TZID=America/New_York:20260408T143000
DTEND;TZID=America/New_York:20260408T153000
DTSTAMP:20260421T180016
CREATED:20260406T205557Z
LAST-MODIFIED:20260406T210121Z
UID:10000574-1775658600-1775662200@twintowershoa.com
SUMMARY:Board Of Directors’ Meeting 4/8/26
DESCRIPTION:Date Posted: 4 -6- 2026\nPosted By:  Lane Ramsfield \nTwin Towers Homeowners Association\, Inc.\nBoard Of Directors’ Meeting\nWhere: Atlantic Room\n2020 N. Atlantic Ave.\nCocoa Beach\, FL 32931\nWhen: Wednesday\, April 8\, 2026\nTime: 2:30pm\nAttend By Zoom:\nMeeting ID: 862 9235 2049\nZoom Link: https://us06web.zoom.us/j/86292352049\nAGENDA \n\nCall Meeting to order\nEstablish a quorum\nPledge of Allegiance\nCertify the posting of the meeting\nApprove the minutes from the BOD Meeting on 26 March 2026.\nOpening Comments from the Board\nDiscussion on Ongoing Board Business\n\nUpdate and Discussion on North Face of South Building\nQuestions/ Comments from owners\n\n\nAppointment of non-standing committees:\n\nBeautification Committee\nGarden Committee\nFinance Committee\nMaintenance\, Rules and Regulations\, Architectural committee – need volunteers\nOwner’s Comments\n\n\nAdjournment
URL:https://twintowershoa.com/event/board-of-directors-meeting-4-8-26/
LOCATION:Atlantic Room\, 2020 N. Atlantic Ave.\, Cocoa Beach\, FL\, 32931\, United States
CATEGORIES:Meeting
ATTACH;FMTTYPE=image/jpeg:https://twintowershoa.com/wp-content/uploads/2025/12/BoardMeeting4B.jpg
END:VEVENT
BEGIN:VEVENT
DTSTART;TZID=America/New_York:20260413T113000
DTEND;TZID=America/New_York:20260413T123000
DTSTAMP:20260421T180016
CREATED:20260409T181515Z
LAST-MODIFIED:20260409T181515Z
UID:10000575-1776079800-1776083400@twintowershoa.com
SUMMARY:Beautification Committee Meeting 4/13/26
DESCRIPTION:Beautification Committee Meeting\nWHERE: Atlantic Room\n2020 N. Atlantic Ave\nCocoa Beach\, FL 32931\nWHEN: Monday April 13\, 2026\nTIME: 11:30 AM\n  \nAGENDA \n\nGarden Cleanup and meeting with US Lawns to review cold weather damage\nFinalizing Carpet colors for both North and South Buildings\nBegin process of choosing paint colors for the outside of the North and south Buildings
URL:https://twintowershoa.com/event/beautification-committee-meeting-4-13-26/
LOCATION:Atlantic Room\, 2020 N. Atlantic Ave.\, Cocoa Beach\, FL\, 32931\, United States
CATEGORIES:Meeting
ATTACH;FMTTYPE=image/jpeg:https://twintowershoa.com/wp-content/uploads/2025/12/BoardMeeting3.jpg
END:VEVENT
BEGIN:VEVENT
DTSTART;TZID=America/New_York:20260414T130000
DTEND;TZID=America/New_York:20260414T140000
DTSTAMP:20260421T180016
CREATED:20260410T201433Z
LAST-MODIFIED:20260410T201811Z
UID:10000576-1776171600-1776175200@twintowershoa.com
SUMMARY:Finance Committee Meeting 4/14/26
DESCRIPTION:Twin Towers Homeowners Association\, Inc.\nFinance Committee Meeting\nAtlantic Room\n2020 N. Atlantic Ave\nCocoa Beach\, FL 32931\nWHEN: Tuesday April 14\, 202\nTIME: 1 PM\nAGENDA\n\nCall Meeting to order\nCertify the posting of the meeting\nIntroduction of Finance Committee Members\nNew Business\n\n\n\n\nSigning limit for BOD President (currently unrestricted)\nSigning limit for Manager (currently $1\,000)\nReserves; Breakdown of each account and related Bank Accounts\nBidding of contracts over 5% of annual budget\nUse and approval of Association credit card\nBalcony project North Building; CRI contract\nBalcony project South Building; anticipated costs\nSpecial Assessment; status of 2023 $ and funds not used\nControls for A/R; i.e. check processing\, application to owner\, statements\nControls for A/P; i.e. invoice approval\, expense coding\, auto-pays\, item description noted in accounting software\nControls for Payroll; i.e. protocol for employee raises\nMonthly or quarterly reports to owners with variance explanation\n2027 Budget preparation\, budget workshop\nSeparate email for matters pertaining to finances\nJob Descriptions (matter carried over from last year’s committee)\nManual (matter carried over from last year’s committee)\nCommittee members additional matters\n\n\n\n\nOwner discussion\nAdjournment
URL:https://twintowershoa.com/event/finance-committee-meeting-4-14-26/
LOCATION:Atlantic Room\, 2020 N. Atlantic Ave.\, Cocoa Beach\, FL\, 32931\, United States
CATEGORIES:Meeting
ATTACH;FMTTYPE=image/jpeg:https://twintowershoa.com/wp-content/uploads/2025/12/BoardMeeting4B.jpg
END:VEVENT
END:VCALENDAR