BEGIN:VCALENDAR
VERSION:2.0
PRODID:-//Twin Towers Homeowners Association - ECPv6.15.20//NONSGML v1.0//EN
CALSCALE:GREGORIAN
METHOD:PUBLISH
X-ORIGINAL-URL:https://twintowershoa.com
X-WR-CALDESC:Events for Twin Towers Homeowners Association
REFRESH-INTERVAL;VALUE=DURATION:PT1H
X-Robots-Tag:noindex
X-PUBLISHED-TTL:PT1H
BEGIN:VTIMEZONE
TZID:America/New_York
BEGIN:DAYLIGHT
TZOFFSETFROM:-0500
TZOFFSETTO:-0400
TZNAME:EDT
DTSTART:20230312T070000
END:DAYLIGHT
BEGIN:STANDARD
TZOFFSETFROM:-0400
TZOFFSETTO:-0500
TZNAME:EST
DTSTART:20231105T060000
END:STANDARD
BEGIN:DAYLIGHT
TZOFFSETFROM:-0500
TZOFFSETTO:-0400
TZNAME:EDT
DTSTART:20240310T070000
END:DAYLIGHT
BEGIN:STANDARD
TZOFFSETFROM:-0400
TZOFFSETTO:-0500
TZNAME:EST
DTSTART:20241103T060000
END:STANDARD
BEGIN:DAYLIGHT
TZOFFSETFROM:-0500
TZOFFSETTO:-0400
TZNAME:EDT
DTSTART:20250309T070000
END:DAYLIGHT
BEGIN:STANDARD
TZOFFSETFROM:-0400
TZOFFSETTO:-0500
TZNAME:EST
DTSTART:20251102T060000
END:STANDARD
BEGIN:DAYLIGHT
TZOFFSETFROM:-0500
TZOFFSETTO:-0400
TZNAME:EDT
DTSTART:20260308T070000
END:DAYLIGHT
BEGIN:STANDARD
TZOFFSETFROM:-0400
TZOFFSETTO:-0500
TZNAME:EST
DTSTART:20261101T060000
END:STANDARD
END:VTIMEZONE
BEGIN:VEVENT
DTSTART;TZID=America/New_York:20250306T163000
DTEND;TZID=America/New_York:20250306T173000
DTSTAMP:20260419T094836
CREATED:20250424T210038Z
LAST-MODIFIED:20250424T210038Z
UID:10000536-1741278600-1741282200@twintowershoa.com
SUMMARY:Board of Directors Meeting 3/6/25
DESCRIPTION:Twin Towers Homeowners Association\, Inc.\nBOARD OF DIRECTORS MEETING\nAtlantic Room\n2020 N. Atlantic Ave\nCocoa Beach\, FL 32931\nMarch 6\, 2025\n4:30 PM\nATTEND BY ZOOM:\nMeeting ID: 862 9235 2049\nZoom Link: https://us06web.zoom.us/j/86292352049 \nAGENDA \n\nCall Meeting to order\nPledge Of Allegiance\nCertify the posting of the meeting\nApprove the minutes for: 19 December 2024\nOld Business\nNew Business\n\n\n\n\nAppointing new Board Members\nOfficers Reports:\n\n\n\n\n\n\n\n\nPresident\nVice President\nTreasurer\n\n\n\n\n\n\n\n\nApproval of Banking\nAppointment of Committees\nRecognizing clubs\nChange off time for employees. All time is to be PTO – (Paid Time Off) and USE or LOSE – NOT PAID OUT or carried forward.\n\n\n\n\nManager’s Report\nOwners’ comments\nAdjournment
URL:https://twintowershoa.com/event/board-of-directors-meeting-3-6-25/
LOCATION:Atlantic Room\, 2020 N. Atlantic Ave.\, Cocoa Beach\, FL\, 32931\, United States
CATEGORIES:Meeting
ATTACH;FMTTYPE=image/jpeg:https://twintowershoa.com/wp-content/uploads/2024/11/board-meeting.jpg
END:VEVENT
BEGIN:VEVENT
DTSTART;TZID=America/New_York:20250228T180000
DTEND;TZID=America/New_York:20250228T190000
DTSTAMP:20260419T094836
CREATED:20250424T210038Z
LAST-MODIFIED:20250625T145108Z
UID:10000535-1740765600-1740769200@twintowershoa.com
SUMMARY:Organizational Meeting February 28\, 2025
DESCRIPTION:Twin Towers Homeowners Association\, Inc.\nORGANIZATIONAL MEETING\nWHERE: Atlantic Room\n2020 N. Atlantic Ave\nCocoa Beach\, FL 32931 \nWHEN: February 28\, 2025\nTIME: 6PM\nZOOM IS NOT AVAIABLE FOR THIS MEETING \nAGENDA\n• Call Meeting to order\n• Pledge Of Allegiance\n• Certify the posting of the meeting.\n• New Business – Discussion and selection of Board Positions\n• Adjournment
URL:https://twintowershoa.com/event/organizational-meeting-february-28-2025/
LOCATION:Atlantic Room\, 2020 N. Atlantic Ave.\, Cocoa Beach\, FL\, 32931\, United States
CATEGORIES:Meeting
ATTACH;FMTTYPE=image/jpeg:https://twintowershoa.com/wp-content/uploads/2024/11/board-meeting.jpg
END:VEVENT
BEGIN:VEVENT
DTSTART;TZID=America/New_York:20250220T200000
DTEND;TZID=America/New_York:20250220T213000
DTSTAMP:20260419T094836
CREATED:20250424T210039Z
LAST-MODIFIED:20250424T210039Z
UID:10000008-1740081600-1740087000@twintowershoa.com
SUMMARY:2025 Annual Meeting 2/20/25
DESCRIPTION:2025 Annual Meeting of\nTwin Towers Homeowners Association\, Inc.\nAtlantic Room\n2020 N. Atlantic Ave\nCocoa Beach\, FL 32931\nFebruary 20\, 2025\n8:00 PM\nFirst Notice of Annual Meeting and Notice of Intent to Be A Candidate\nSecond Notice of Annual Meeting\nAgenda\n 
URL:https://twintowershoa.com/event/2025-annual-meeting-2-20-25/
LOCATION:Atlantic Room\, 2020 N. Atlantic Ave.\, Cocoa Beach\, FL\, 32931\, United States
CATEGORIES:Meeting
ATTACH;FMTTYPE=image/jpeg:https://twintowershoa.com/wp-content/uploads/2024/11/board-meeting.jpg
END:VEVENT
BEGIN:VEVENT
DTSTART;TZID=America/New_York:20250128T180000
DTEND;TZID=America/New_York:20250128T200000
DTSTAMP:20260419T094836
CREATED:20250424T210039Z
LAST-MODIFIED:20250424T210039Z
UID:10000271-1738087200-1738094400@twintowershoa.com
SUMMARY:Board of Directors Meeting 1/28/25
DESCRIPTION:Twin Towers Homeowners Association\, Inc.\nBoard of Directors Meeting\nAtlantic Room\n2020 N. Atlantic Ave\nCocoa Beach\, FL 32931\nJanuary 28\, 2025\n5:00 PM\nRead Agenda \nAttend By Zoom: \nMeeting ID: 862 9235 2049 \nZoom Link: https://us06web.zoom.us/j/86292352049
URL:https://twintowershoa.com/event/board-of-directors-meeting-1-28-25/
LOCATION:Atlantic Room\, 2020 N. Atlantic Ave.\, Cocoa Beach\, FL\, 32931\, United States
CATEGORIES:Meeting
ATTACH;FMTTYPE=image/jpeg:https://twintowershoa.com/wp-content/uploads/2024/11/board-meeting.jpg
END:VEVENT
BEGIN:VEVENT
DTSTART;TZID=America/New_York:20241219T150000
DTEND;TZID=America/New_York:20241219T170000
DTSTAMP:20260419T094836
CREATED:20250424T210039Z
LAST-MODIFIED:20250424T210039Z
UID:10000007-1734620400-1734627600@twintowershoa.com
SUMMARY:Budget/ Board of Directors Meeting 12/19/24
DESCRIPTION:Twin Towers Homeowners Association\, Inc.\nBoard of Directors Meeting\nAtlantic Room\n2020 N. Atlantic Ave\nCocoa Beach\, FL 32931\nDecember 19\, 2024\n3:00 PM\nMeeting Announcement and Agenda\nProposed 2025 Agenda\nAttend By Zoom:\nMeeting ID: 862 9235 2049\nZoom Link: https://us06web.zoom.us/j/86292352049
URL:https://twintowershoa.com/event/budget-board-of-directors-meeting-12-19-24/
LOCATION:Atlantic Room\, 2020 N. Atlantic Ave.\, Cocoa Beach\, FL\, 32931\, United States
CATEGORIES:Meeting
ATTACH;FMTTYPE=image/jpeg:https://twintowershoa.com/wp-content/uploads/2024/11/board-meeting.jpg
END:VEVENT
BEGIN:VEVENT
DTSTART;TZID=America/New_York:20241206T080000
DTEND;TZID=America/New_York:20241206T170000
DTSTAMP:20260419T094836
CREATED:20250424T210039Z
LAST-MODIFIED:20250424T210039Z
UID:10000006-1733472000-1733504400@twintowershoa.com
SUMMARY:Board of Directors Meeting 12/6/24
DESCRIPTION:Twin Towers Homeowners Association\, Inc.\nBoard of Directors Meeting\nAtlantic Room\n2020 N. Atlantic Ave\nCocoa Beach\, FL 32931\nDecember 6\, 2024\n5:00 PM\nRead Agenda \n  \nAttend By Zoom: \nMeeting ID: 862 9235 2049 \nZoom Link: https://us06web.zoom.us/j/86292352049
URL:https://twintowershoa.com/event/board-of-directors-meeting-12-6-24/
LOCATION:Atlantic Room\, 2020 N. Atlantic Ave.\, Cocoa Beach\, FL\, 32931\, United States
CATEGORIES:Meeting
ATTACH;FMTTYPE=image/jpeg:https://twintowershoa.com/wp-content/uploads/2024/11/board-meeting.jpg
END:VEVENT
END:VCALENDAR